Workbook

Sheet Usmernenie
A1: Usmernenie k priebežnému čerpaniu a vyúčtovaniu finančných prostriedkov poskytnutých v roku 2019 | C1: Grafické vysvetlenie spolufinancovania (napr. 35%):
A3: Základné pokyny
A4: 1. Vložiť údaje do hárkov "Príjmy" a "Doklady".
A5: 2. Skontrolovať hárky "Doklady" a "Spolu".
A6: 3. Po kontrole odoslať elektronickú verziu formuláru na adresu ziadosti.sport@minedu.sk.
A7: 3. Vyplniť hárky "Avízo - výnosy" (všetci Prijímatelia, aj tí, ktorí nemali výnosy).
A8: 4. Vyplniť hárok "Avízo - vratka" (len Prijímatelia, ktorí nevyčerpali celú sumu).
A9: 5. Vytlačiť hárky "Spolu", "Doklady", "Avízo - výnosy", "Avízo - vratka".
A10: 6. Dopísať do hárku "Spolu" dátum a čas odoslania elektronickej verzie formuláru vyúčtovania.
A11: 7. Podpísať všetky hárky štatutárnym zástupcom (v súlade so stanovami), prípadne podľa pokynov na hárku.
A12: 8. Odoslať formulár vyúčtovania (hárky "Doklady", "Spolu", "Avízo - výnosy" a "Avízo - vratka") v listinnej podobe na adresu: MŠVVaŠ SR, Stromová 1, 813 30 Bratislava.
A13: Pri vypĺňaní odporúčame použiť hárok „Príklady“, v ktorom sú vysvetlené najčastejšie druhy výdavkov. Pomôže v prípade, ak si nie ste istí, ako uviesť určitý typ výdavku.
A15: INFORMÁCIA – PRIEBEŽNÉ ZVEREJŇOVANIE A VYÚČTOVANIE PRÍSPEVKOV PRE KLUBY V prípade poskytnutia finančných prostriedkov z príspevku uznanému športu klubom podľa § 69 ods. (5) bod a) má národný športový zväz (ďalej len „NŠZ“) dve možnosti: 1. Príspevok poskytne priamym poukázaním na samostatný bankový účet klubu. V tomto prípade: a) KLUB je povinný zriadiť pre príjem prostriedkov zo štátneho rozpočtu samostatný bankový účet, b) KLUB zverejňuje použitie príspevku v rovnakej forme a štruktúre ako NŠZ príspevok uznanému športu, nakoľko v tomto prípade vystupuje klub ako prijímateľ prostriedkov zo štátneho rozpočtu, c) NŠZ zverejňuje v hárku „Doklady“ poskytnutú sumu klubu ako samostatnú položku s Popisom úhrady „príspevok klubu“, pričom v Dodávateľovi plnenia uvedie názov klubu, d) NŠZ uvádza vo formulári vyúčtovania finančných prostriedkov za rok 2019 prostriedky poskytnuté klubom v rovnakej forme a štruktúre, ako ostatné účely uvedené v zmluve (viď hárok "Príklady"). 2. Príspevok poskytne formou refundácie výdavkov klubu na bankový účet klubu. V tomto prípade: a) KLUB nie je povinný mať zriadený samostatný bankový účet, b) KLUB - NEzverejňuje priebežne prijatie a čerpanie poskytnutých prostriedkov z príspevku uznanému športu, nakoľko tieto položky sú priebežne zverejňované národným športovým zväzom, c) NŠZ zverejňuje v hárku „Doklady“ refundované sumy klubu ako samostatné položky podľa konkrétneho účelu, pričom okrem sumy a účelu uvedie ako „Dodávateľa plnenia“ názov klubu aj konečného dodávateľa tovarov a služieb, d) NŠZ - vyúčtovanie prostriedkov za rok 2019 voči MŠVVaŠ SR sa predkladá rovnako ako v predchádzajúcom prípade.
A17: INFORMÁCIA - PRIEBEŽNÉ ZVEREJŇOVANIE A VYÚČTOVANIE PRÍSPEVKU SLOVENSKÉMU PARALYMPIJSKÉMU VÝBORU V prípade poskytnutia finančných prostriedkov z príspevku na národný športový projekt podľa § 75 ods. (6) Slovenskému paralympijskému výboru (ďalej len „SPV“) sa príspevok poskytne priamym poukázaním na samostatné bankové účty jednotlivých subjektov uvedených v zmluve (nie vo forme refundácie výdavkov). V tomto prípade: a) je každý subjekt povinný zriadiť pre príjem prostriedkov zo štátneho rozpočtu samostatný bankový účet, b) SPV zverejňuje poskytnutú sumu subjektu ako samostatnú položku s Popisom úhrady „príspevok subjektu“, pričom v Dodávateľovi plnenia uvedie názov subjektu, c) subjekt zverejňuje použitie príspevku v rovnakej forme a štruktúre ako prijímateľ príspevku, t. j. SPV, nakoľko v tomto prípade vystupuje každý subjekt ako prijímateľ prostriedkov zo štátneho rozpočtu, d) SPV uvádza vo formulári vyúčtovania finančných prostriedkov za rok 2019 prostriedky poskytnuté subjektom v rovnakej forme a štruktúre ako pri príspevku na plnenie svojich vlastných úloh (viď hárok "Príklady").
A19: (1) Priebežné čerpanie a vyúčtovanie príspevkov/dotácií poskytnutých zo štátneho rozpočtu v roku 2019 v oblasti športu (ďalej len "Finančných prostriedkov") sa vykonáva v termínoch a spôsobom, ktoré sú stanovené zákonom a v zmluve/dodatku k zmluve o poskytnutí Finančných prostriedkov (ďalej len „Zmluva“). | C19: Povinne vyúčtovaná suma
C20: 1
A21: (2) Prijímateľ Finančných prostriedkov je v súlade s § 65 ods. (6) zákona o športe povinný priebežne zverejňovať informácie o prijatí a spôsobe použitia Finančných prostriedkov najneskôr do 25. dňa kalendárneho mesiaca nasledujúceho po kalendárnom mesiaci, v ktorom boli Finančné prostriedky prijaté alebo použité. Zverejnením formuláru vyúčtovania na svojej webovej stránke a jeho pravidelnou aktualizáciou, vrátane oznámenia tejto webovej adresy ministerstvu, si túto povinnosť splníte. | C21: 0.65 | D21: 0.35
C22: 1
A23: (3) Tento formulár obsahuje údaje o sumách a účeloch Finančných prostriedkov uvedených v Zmluve o poskytnutí finančných prostriedkov Prijímateľovi, vybranému zo zoznamu. Údaje sú aktualizované k dátumu 31.01.2019.
A25: (4) Prijímateľ aktualizuje k vloženému dátumu (bunka C1 hárku "Príjmy") sumu prijatých Finančných prostriedkov, ktoré mu boli poukázané od 01.01.2019.
A27: (5) Prijímateľ uvádza každý príjem (poukázané Finančné prostriedky) a každý výdaj (použitie Finančných prostriedkov) na samostatnom riadku ako samostatnú položku. Ak je potrebné platbu rozdeliť na viacero účelov, rozpíše sa táto platba na viacero riadkov, v každom riadku sa uvedie príslušný kód účelu a riadok sa priradí k príslušnému účelu.
A29: (6) Formulár si uložte vo vašom počítači. V akomkoľvek hárku vypĺňate len žlté polia. V prípade nezrovnalostí alebo problémov pri vypĺňaní sa obráťte na zamestnancov sekcie športu MŠVVaŠ SR.
A31: (7) V hárku „Doklady“ vyberte zo zoznamu svoju organizáciu („Prijímateľ Finančných prostriedkov“).
A33: (8) Do polí riadkov 107 až 3000 vložte postupne vyúčtovacie údaje (polia zmenia farbu na žltú). Údaje v stĺpcoch B až H je možné vyplniť aj vložením údajov z iného hárku .xls, alebo z iného zdroja (CTRL+C, CTRL+V). Údaje v stĺpci A nie je možné vyplniť kopírovaním z iného zdroja, ale je potrebné vybrať ich z ponúkaného zoznamu. Pri nedodržaní tohto upozornenia sa poruší funkčnosť formulára a takéto vyúčtovanie nebude akceptované.
A35: (9) Pri vkladaní údajov ako pomôcky použite komentáre, ktoré sa zobrazia, keď podržíte kurzor myši nad bunkami označenými malými červenými trojuholníčkami v záhlaví stĺpcov.
A37: (10) Pri vkladaní údajov uvádzajte plné výrazy, nie skratky (napr. namiesto DPC treba uviesť „dohoda o pracovnej činnosti“). V nevyhnutnom prípade používajte skratky podľa zoznamu v hárku "Skratky", ktorý si môžete rozšíriť o vlastné skratky (je potrebné ich doplniť do príslušnej tabuľky). V stĺpci "Dodávateľ plnenia" nie je prípustné používať skratky, okrem skratiek, ktoré sú v oficiálnom názve subjektu. Vyhnite sa prehnanému používaniu skratiek, ktoré nie sú bežne zaužívané, vyúčtovanie sa tak stáva neprehľadným. Poskytovateľ môže vrátiť neprehľadné vyúčtovanie na prepracovanie.
A39: (11) Pri vkladaní popisu uhradeného plnenia vyberte z rozbaľovacieho zoznamu správnu možnosť. V prípade, ak sa daná možnosť vo výbere nenachádza, zadajte voľný text (výstižný s presnou špecifikáciou plnenia).
A41: (12) Vo vyúčtovaní Finančných prostriedkov môžu byť uvedené len doklady uhradené s dátumom od 01.01.2019 do 31.12.2019, resp. s dátumom, ktorý bol uvedený v zmluve o poskytnutí Finančných prostriedkov ako termín pre ich použitie. Rovnako to platí aj pre príspevky klubom a subjektom v prípade príspevku SPV, to znamená, že aj kluby aj subjekty musia použiť prostriedky v termíne od 01.01.2019 do 31.12.2019, resp. v termíne, ktorý bol uvedený v zmluve o poskytnutí Finančných prostriedkov. Pri investíciách (kapitálové transfery) je nevyhnutné priložiť k vyúčtovaniu aj kópie faktúr a kópie dokladov o ich úhrade.
A43: (13) Vyúčtovávané sumy vkladajte s presnosťou na dve desatinné miesta.
A45: (14) V prípade inej meny ako euro sumu na účtovnom doklade (napr. na faktúre) prepočítajte na eurá podľa kurzu na účtovnom doklade, resp. aktuálnym kurzom NBS ku dňu realizácie platby. V prípade doloženia faktúr (dokladov) za kapitálové výdavky je potrebné doložiť faktúru (doklad), na ktorej je údaj s aktuálnym kurzom k dátumu prepočítania a prepočítanou sumou.
... A130: Analytický kód pre príspevok uznanému športu 1 = šport mládeže do 23 rokov (cez kluby) 2 = talentovaní športovci 3 = športová reprezentácia 4 = správa a prevádzka Analytický kód pri poskytnutí finančných prostriedkov, pri ktorom bola zmluvne určená povinnosť spolufinancovania 99 = spolufinancovanie

Sheet Priklady
A1: Príklady vyplnenia formulára
A2: Priebežné čerpanie finančných prostriedkov poskytnutých zo štátneho rozpočtu v oblasti športu v roku 2019 | H2: V1
H3: 43496
A4: Prijímateľ dotácie: | B4: Slovenský zväz skúšobný
A7: Účel úhrady (vyberte zo zoznamu, inak automatické vyhodnocovanie nebude fungovať) | B7: Interné číslo účtovného dokladu | C7: Číslo externého (originálneho) účtovného dokladu | D7: Dátum skutočnej úhrady účtovného dokladu | E7: Popis úhrady (vyberte z rozbaľovacieho zoznamu, alebo zadajte voľný text) | F7: IČO dodávateľa plnenia | G7: Dodávateľ plnenia | H7: Skutočne uhradená suma (eur) | I7: AK
A8: a - kriket - bežné výdavky | E8: Organizovanie podujatia Názov podujatia: Svetový pohár v skúškach Miesto konania: Brezno Termín: 15. - 18.4.2017 Počet zúčastnených osôb (okrem divákov): 20
A9: a - kriket - bežné výdavky | B9: 123/2017 | C9: CP14-110 | D9: 42857 | E9: počet odpracovaných hodín spolu: 100 hrubé mzdy vyplatené osobám v súvislosti s podujatím vrátane odvodov zamestnávateľa spolu (dohody, zmluvy, faktúry, a pod.) v eur | G9: osoba 1 - osoba 20 | H9: 400 | I9: 3
A10: a - kriket - bežné výdavky | B10: 124/2017 | C10: DF 24 | D10: 42873 | E10: náklady na ubytovanie 10 športovcov + 1 tréner | G10: Chata Breznovčan | I10: 3
A11: a - kriket - bežné výdavky | B11: 100/2017 | C11: 3020 | D11: 42804 | E11: grafické práce na výrobe loga podujatia | G11: Anna Malá - PROMOTION, s.r.o. | H11: 100 | I11: 3
A12: a - kriket - bežné výdavky | B12: 121/2017 | C12: 100002352 | D12: 42845 | E12: cestovné - vlak - Bratislava - Brezno, 16 osôb | G12: Ján Rýchly | H12: 50 | I12: 3
A13: a - kriket - bežné výdavky | B13: 125/2017 | C13: DF 26 | D13: 42863 | E13: stravovanie 20 osôb | G13: Reštaurácia "U vodníka", Brezno | H13: 200 | I13: 3
A14: a - kriket - bežné výdavky | B14: 126/2017 | C14: DF 29 | D14: 42867 | E14: prenájom plavárne | G14: STARZ, Bratislava | I14: 3
A15: a - kriket - bežné výdavky | B15: 128/2017 | C15: DF 30 | D15: 42825 | E15: nákup športového oblečenia - 15 ks | G15: Adidas, Brezno | H15: 505 | I15: 3
A16: a - kriket - bežné výdavky | E16: Pracovná cesta Názov: Majstrovstvá V4 v skúškach Termín: 3.9.2017 Miesto - mesto a štát: Varšava, Poľsko Spôsob dopravy: letecky/BUS Počet všetkých osôb na pracovnej ceste: 6, z toho: - športovci (+ navádzači): 1 - tréneri + rozhodcovia + vedúci výpravy + lekár + fyzioterapeut + masér + ): 1 - ostatné osoby (napr. sponzori, hostia): 4
A17: a - kriket - bežné výdavky | B17: 270/2017 | C17: 3252514 | D17: 42862 | E17: nákup leteniek - 6 ks | G17: Czech Airlines | I17: 2
A18: a - kriket - bežné výdavky | B18: 274/2017 | C18: D/258/2017 | D18: 43013 | E18: materiálové zabezpečenie pretekov - nákup 4 pušiek | G18: Puškárstvo - Ernest Bezaj, Malinovo | I18: 2
A19: a - kriket - bežné výdavky | B19: 275/2017 | C19: DF 32 | D19: 42993 | E19: občerstvenie - 6 osôb | G19: Messing Catering, s.r.o., Rovinka | H19: 1000 | I19: 2
A20: a - kriket - bežné výdavky | B20: 280/2017 | C20: DF 33 | D20: 42993 | E20: ubytovanie - 2 osoby | G20: Jozef Karát - privát, Šaľa | H20: 300 | I20: 2
A21: a - kriket - bežné výdavky | B21: 190/2017 | C21: DF50 | D21: 42936 | E21: prenájom miestnosti | G21: Double Tree Hotel, Bratislava | H21: 600 | I21: 2
A22: a - kriket - bežné výdavky | B22: 250/2017 | C22: 999 | D22: 42983 | E22: cestovné - Cerová - Trnava a späť, 3.9.2017, 2 osoby | G22: Železničná spoločnosť, a.s., Slovensko | H22: 25.9 | I22: 2
A23: a - kriket - bežné výdavky | B23: 251/2017 | C23: 258963 | D23: 42880 | E23: vecné ceny - poháre 3 ks | G23: Victory sport, s.r.o. | I23: 2
A24: a - kriket - bežné výdavky | E24: Ostatné
A25: a - kriket - bežné výdavky | B25: P1/V/316 | C25: P1/V/316 | D25: 43100 | E25: Hrubé mzdy vyplatené osobám (zamestnancom) vrátane odvodov zamestnávateľa za rok 2017 počet fyzických osôb: 5 | G25: osoba 1, osoba 4 - 7 | I25: 4
A26: a - kriket - bežné výdavky | B26: J/2017-20 | C26: 258 | D26: 42752 | E26: doplnky výživy - 21 športovcov | G26: Lekáreň Kozia, Bratislava | H26: 124 | I26: 2
A27: a - kriket - bežné výdavky | B27: DF2017/326 | C27: 1213275 | D27: 42856 | E27: oprava športtesteru | G27: TOP TREND Patrik Valo | H27: 19.1 | I27: 2
A28: a - kriket - bežné výdavky | B28: DF2017/193 | C28: 2007006035 | D28: 42737 | E28: havarijné poistenie 1-3/2017, EČV BA 258 KK | G28: Uniqa poisťovňa, a.s. | H28: 277.74 | I28: 4
A29: a - kriket - bežné výdavky | B29: 43070 | C29: 258 | D29: 42750 | E29: diaľničná nálepka na rok 2017 | G29: OMV, s.r.o. | H29: 50 | I29: 4
A30: a - kriket - bežné výdavky | B30: 199/2017 | C30: 32 | D30: 42942 | E30: poštovné | G30: Slovenská pošta, a.s. | H30: 9 | I30: 4
A31: a - kriket - bežné výdavky | B31: 42856 | C31: 3 | D31: 42747 | E31: nájom kancelárskych priestorov 2/2017 | G31: Slovenské združenie telesnej kultúry | H31: 10 | I31: 4
A32: a - kriket - bežné výdavky | B32: P1/V/259 | C32: 20123698752 | D32: 42987 | E32: regenerácia, 8 športovcov, 8/2017 | G32: SPORTMEDICAL s.r.o., Bratislava | H32: 500 | I32: 1
A33: a - kriket - bežné výdavky | B33: 235/2017 | C33: 40010 | D33: 42835 | E33: nákup materiálu - reprezentačná vlajka 1 ks | G33: ADAT, s.r.o. | H33: 71.2 | I33: 3
A34: a - kriket - bežné výdavky | B34: 206/2017 | C34: DF100/9/2017 | D34: 42974 | E34: refundácia nákladov na základe zmluvy pre CTM Žilina: Okresné kolo v skúškach, 7.8.2017, Žilina, 43 osôb, z toho: 37 športovcov, 1 tréner, 1 strážna služba, 1 masér, 3 technickí pracovníci, úhrada nákladov za stravovanie | G34: Prestige catering, s.r.o. | H34: 250 | I34: 1
A35: a - kriket - bežné výdavky | B35: 207/2017 | C35: DF500 | D35: 42962 | E35: prenájom plavárne, 4 dráhy, 8 hodín | G35: Mesto Žilina | H35: 320 | I35: 1
A36: a - kriket - bežné výdavky | B36: 305/20104 | C36: 14 | D36: 42886 | E36: upratovacie služby 5/2017 | G36: Boris Dubaj - živnostník | H36: 40 | I36: 4
A37: a - kriket - bežné výdavky | B37: 42736 | C37: V-2017-3 | D37: 42737 | E37: bankové poplatky | G37: SLSP, a.s. | H37: 25 | I37: 4
A38: a - kriket - bežné výdavky | B38: 42795 | C38: 980 | D38: 42768 | E38: poplatok medzinárodnej federácii za rok 2017 | G38: Internationale Asociation ..... | H38: 150 | I38: 4
A39: a - kriket - bežné výdavky | B39: 42826 | C39: 5 | D39: 42741 | E39: členský poplatok za rok 2017 | G39: Konfederácia športových zväzov | H39: 100 | I39: 4
A40: a - kriket - bežné výdavky | B40: 301/2017 | C40: 78954787 | D40: 42829 | E40: prenájom optického kábla 3/2017 | G40: e-Net, s.r.o. | H40: 74.1 | I40: 4
A41: a - kriket - bežné výdavky | B41: 330/2017 | C41: FD52 | D41: 42962 | E41: poplatky za telefón, 7/2017 | G41: Slovak telekom, a.s. | H41: 120 | I41: 2
A42: a - kriket - bežné výdavky | B42: V1-12 | C42: V1-12 | D42: 42839 | E42: PHM - služobné motorové vozidlo EČV: BA 111 SA Obdobie: 14.4. - 18.4.2017 Najazdené kilometre: 800 km | G42: Slovnaft, a.s. Bratislava | H42: 80 | I42: 3
...

Sheet Príjmy
A1: Aktualizovaná suma prostriedkov poskytnutých ministerstvom k dátumu | C1: 43769 | G1: 43496
G2: 43524
A3: Prijímateľ | B3: =INDEX(Adr!B:B,Doklady!B102+1) -> Slovenská skialpinistická asociácia | G3: 43555
A4: IČO: | B4: =RIGHT("0000"&INDEX(Adr!A:A,Doklady!B102+1),8) -> 37998919 | G4: 43585
A5: Sídlo: | B5: =INDEX(Adr!D:D,Doklady!B102+1)&", "&INDEX(Adr!E:E,Doklady!B102+1) -> Bobrovec 550, Bobrovec | G5: 43616
G6: 43646
G7: 43677
G8: 43708
A9: PPG | B9: PPG | C9: Poskytnuté prostriedky | G9: 43738
A10: 026 01 | B10: Šport pre všetkých, školský a univerzitný šport | G10: 43769
A11: 026 02 | B11: Uznané športy | C11: 16127 | G11: 43799
A12: 026 03 | B12: Národné športové projekty | G12: 43830
A13: 026 04 | B13: Športová infraštruktúra
A14: 026 05 | B14: Prierezové činnosti v športe
A15: SPOLU | C15: 16127
A17: Prijímateľ prostriedkov zo štátneho rozpočtu je povinný priebežne zverejňovať informácie o prijatí a spôsobe ich použitia najneskôr do 25. dňa kalendárneho mesiaca nasledujúceho po kalendárnom mesiaci, v ktorom boli prijaté alebo použité ( § 65, ods. 6 zákona č. 440/2015 Z. z. o športe a o zmene a doplnení niektorých zákonov v znení neskorších predpisov).
A61: 15

Sheet Doklady
A1: =IF(ROW()<=B$3,INDEX(FP!F:F,B$2+ROW()-1)&" - "&INDEX(FP!C:C,B$2+ROW()-1),"") -> a - skialpinizmus - bežné transfery | B1: =INDEX(Adr!A:A,B102+1) -> 37998919 | C1: =IF(ROW()<=B$3,INDEX(FP!E:E,B$2+ROW()-1),"") -> 0 | D1: =IF(ROW()<=B$3,INDEX(FP!F:F,B$2+ROW()-1),"") -> a | E1: =IF(ROW()<=B$3,INDEX(FP!G:G,B$2+ROW()-1),"") -> 026 02 | G1: =IF(ROW()<=B$3,INDEX(FP!C:C,B$2+ROW()-1),"") -> skialpinizmus - bežné transfery | H1: =IF(ROW()<=B$3,SUMIF(A$107:A$10052,A1,H$107:H$10052),"") -> 15838.64 | I1: =IF(ROW()<=B$3,SUMIFS(H$103:H$50052,A$103:A$50052,J1,I$103:I$50052,K1),"") -> 0 | J1: =$A1 -> a - skialpinizmus - bežné transfery | K1: 99
A2: =IF(ROW()<=B$3,INDEX(FP!F:F,B$2+ROW()-1)&" - "&INDEX(FP!C:C,B$2+ROW()-1),"") | B2: =MATCH(B1,FP!A:A,0) -> 86 | C2: =IF(ROW()<=B$3,INDEX(FP!E:E,B$2+ROW()-1),"") | D2: =IF(ROW()<=B$3,INDEX(FP!F:F,B$2+ROW()-1),"") | E2: =IF(ROW()<=B$3,INDEX(FP!G:G,B$2+ROW()-1),"") | G2: =IF(ROW()<=B$3,INDEX(FP!C:C,B$2+ROW()-1),"") | H2: =IF(ROW()<=B$3,SUMIF(A$107:A$10052,A2,H$107:H$10052),"") | I2: =IF(ROW()<=B$3,SUMIFS(H$103:H$50052,A$103:A$50052,J2,I$103:I$50052,K2),"") | J2: =$A2 | K2: 99 | L2: AAA | M2: HHH
A3: =IF(ROW()<=B$3,INDEX(FP!F:F,B$2+ROW()-1)&" - "&INDEX(FP!C:C,B$2+ROW()-1),"") | B3: =COUNTIF(FP!A:A,Doklady!B1) -> 1 | C3: =IF(ROW()<=B$3,INDEX(FP!E:E,B$2+ROW()-1),"") | D3: =IF(ROW()<=B$3,INDEX(FP!F:F,B$2+ROW()-1),"") | E3: =IF(ROW()<=B$3,INDEX(FP!G:G,B$2+ROW()-1),"") | G3: =IF(ROW()<=B$3,INDEX(FP!C:C,B$2+ROW()-1),"") | H3: =IF(ROW()<=B$3,SUMIF(A$107:A$10052,A3,H$107:H$10052),"") | I3: =IF(ROW()<=B$3,SUMIFS(H$103:H$50052,A$103:A$50052,J3,I$103:I$50052,K3),"") | J3: =$A3 | K3: 99 | L3: =$A2 | M3: 99
A4: =IF(ROW()<=B$3,INDEX(FP!F:F,B$2+ROW()-1)&" - "&INDEX(FP!C:C,B$2+ROW()-1),"") | C4: =IF(ROW()<=B$3,INDEX(FP!E:E,B$2+ROW()-1),"") | D4: =IF(ROW()<=B$3,INDEX(FP!F:F,B$2+ROW()-1),"") | E4: =IF(ROW()<=B$3,INDEX(FP!G:G,B$2+ROW()-1),"") | G4: =IF(ROW()<=B$3,INDEX(FP!C:C,B$2+ROW()-1),"") | H4: =IF(ROW()<=B$3,SUMIF(A$107:A$10052,A4,H$107:H$10052),"") | I4: =IF(ROW()<=B$3,SUMIFS(H$103:H$50052,A$103:A$50052,J4,I$103:I$50052,K4),"") | J4: =$A4 | K4: 99 | L4: AAA | M4: HHH
A5: =IF(ROW()<=B$3,INDEX(FP!F:F,B$2+ROW()-1)&" - "&INDEX(FP!C:C,B$2+ROW()-1),"") | C5: =IF(ROW()<=B$3,INDEX(FP!E:E,B$2+ROW()-1),"") | D5: =IF(ROW()<=B$3,INDEX(FP!F:F,B$2+ROW()-1),"") | E5: =IF(ROW()<=B$3,INDEX(FP!G:G,B$2+ROW()-1),"") | G5: =IF(ROW()<=B$3,INDEX(FP!C:C,B$2+ROW()-1),"") | H5: =IF(ROW()<=B$3,SUMIF(A$107:A$10052,A5,H$107:H$10052),"") | I5: =IF(ROW()<=B$3,SUMIFS(H$103:H$50052,A$103:A$50052,J5,I$103:I$50052,K5),"") | J5: =$A5 | K5: 99 | L5: =$A4 | M5: 99
A6: =IF(ROW()<=B$3,INDEX(FP!F:F,B$2+ROW()-1)&" - "&INDEX(FP!C:C,B$2+ROW()-1),"") | C6: =IF(ROW()<=B$3,INDEX(FP!E:E,B$2+ROW()-1),"") | D6: =IF(ROW()<=B$3,INDEX(FP!F:F,B$2+ROW()-1),"") | E6: =IF(ROW()<=B$3,INDEX(FP!G:G,B$2+ROW()-1),"") | G6: =IF(ROW()<=B$3,INDEX(FP!C:C,B$2+ROW()-1),"") | H6: =IF(ROW()<=B$3,SUMIF(A$107:A$10052,A6,H$107:H$10052),"") | I6: =IF(ROW()<=B$3,SUMIFS(H$103:H$50052,A$103:A$50052,J6,I$103:I$50052,K6),"") | J6: =$A6 | K6: 99 | L6: AAA | M6: HHH
A7: =IF(ROW()<=B$3,INDEX(FP!F:F,B$2+ROW()-1)&" - "&INDEX(FP!C:C,B$2+ROW()-1),"") | C7: =IF(ROW()<=B$3,INDEX(FP!E:E,B$2+ROW()-1),"") | D7: =IF(ROW()<=B$3,INDEX(FP!F:F,B$2+ROW()-1),"") | E7: =IF(ROW()<=B$3,INDEX(FP!G:G,B$2+ROW()-1),"") | G7: =IF(ROW()<=B$3,INDEX(FP!C:C,B$2+ROW()-1),"") | H7: =IF(ROW()<=B$3,SUMIF(A$107:A$10052,A7,H$107:H$10052),"") | I7: =IF(ROW()<=B$3,SUMIFS(H$103:H$50052,A$103:A$50052,J7,I$103:I$50052,K7),"") | J7: =$A7 | K7: 99 | L7: =$A6 | M7: 99
A8: =IF(ROW()<=B$3,INDEX(FP!F:F,B$2+ROW()-1)&" - "&INDEX(FP!C:C,B$2+ROW()-1),"") | C8: =IF(ROW()<=B$3,INDEX(FP!E:E,B$2+ROW()-1),"") | D8: =IF(ROW()<=B$3,INDEX(FP!F:F,B$2+ROW()-1),"") | E8: =IF(ROW()<=B$3,INDEX(FP!G:G,B$2+ROW()-1),"") | G8: =IF(ROW()<=B$3,INDEX(FP!C:C,B$2+ROW()-1),"") | H8: =IF(ROW()<=B$3,SUMIF(A$107:A$10052,A8,H$107:H$10052),"") | I8: =IF(ROW()<=B$3,SUMIFS(H$103:H$50052,A$103:A$50052,J8,I$103:I$50052,K8),"") | J8: =$A8 | K8: 99 | L8: AAA | M8: HHH
A9: =IF(ROW()<=B$3,INDEX(FP!F:F,B$2+ROW()-1)&" - "&INDEX(FP!C:C,B$2+ROW()-1),"") | C9: =IF(ROW()<=B$3,INDEX(FP!E:E,B$2+ROW()-1),"") | D9: =IF(ROW()<=B$3,INDEX(FP!F:F,B$2+ROW()-1),"") | E9: =IF(ROW()<=B$3,INDEX(FP!G:G,B$2+ROW()-1),"") | G9: =IF(ROW()<=B$3,INDEX(FP!C:C,B$2+ROW()-1),"") | H9: =IF(ROW()<=B$3,SUMIF(A$107:A$10052,A9,H$107:H$10052),"") | I9: =IF(ROW()<=B$3,SUMIFS(H$103:H$50052,A$103:A$50052,J9,I$103:I$50052,K9),"") | J9: =$A9 | K9: 99 | L9: =$A8 | M9: 99
A10: =IF(ROW()<=B$3,INDEX(FP!F:F,B$2+ROW()-1)&" - "&INDEX(FP!C:C,B$2+ROW()-1),"") | C10: =IF(ROW()<=B$3,INDEX(FP!E:E,B$2+ROW()-1),"") | D10: =IF(ROW()<=B$3,INDEX(FP!F:F,B$2+ROW()-1),"") | E10: =IF(ROW()<=B$3,INDEX(FP!G:G,B$2+ROW()-1),"") | G10: =IF(ROW()<=B$3,INDEX(FP!C:C,B$2+ROW()-1),"") | H10: =IF(ROW()<=B$3,SUMIF(A$107:A$10052,A10,H$107:H$10052),"") | I10: =IF(ROW()<=B$3,SUMIFS(H$103:H$50052,A$103:A$50052,J10,I$103:I$50052,K10),"") | J10: =$A10 | K10: 99 | L10: AAA | M10: HHH
A11: =IF(ROW()<=B$3,INDEX(FP!F:F,B$2+ROW()-1)&" - "&INDEX(FP!C:C,B$2+ROW()-1),"") | C11: =IF(ROW()<=B$3,INDEX(FP!E:E,B$2+ROW()-1),"") | D11: =IF(ROW()<=B$3,INDEX(FP!F:F,B$2+ROW()-1),"") | E11: =IF(ROW()<=B$3,INDEX(FP!G:G,B$2+ROW()-1),"") | G11: =IF(ROW()<=B$3,INDEX(FP!C:C,B$2+ROW()-1),"") | H11: =IF(ROW()<=B$3,SUMIF(A$107:A$10052,A11,H$107:H$10052),"") | I11: =IF(ROW()<=B$3,SUMIFS(H$103:H$50052,A$103:A$50052,J11,I$103:I$50052,K11),"") | J11: =$A11 | K11: 99 | L11: =$A10 | M11: 99
A12: =IF(ROW()<=B$3,INDEX(FP!F:F,B$2+ROW()-1)&" - "&INDEX(FP!C:C,B$2+ROW()-1),"") | C12: =IF(ROW()<=B$3,INDEX(FP!E:E,B$2+ROW()-1),"") | D12: =IF(ROW()<=B$3,INDEX(FP!F:F,B$2+ROW()-1),"") | E12: =IF(ROW()<=B$3,INDEX(FP!G:G,B$2+ROW()-1),"") | G12: =IF(ROW()<=B$3,INDEX(FP!C:C,B$2+ROW()-1),"") | H12: =IF(ROW()<=B$3,SUMIF(A$107:A$10052,A12,H$107:H$10052),"") | I12: =IF(ROW()<=B$3,SUMIFS(H$103:H$50052,A$103:A$50052,J12,I$103:I$50052,K12),"") | J12: =$A12 | K12: 99 | L12: AAA | M12: HHH
A13: =IF(ROW()<=B$3,INDEX(FP!F:F,B$2+ROW()-1)&" - "&INDEX(FP!C:C,B$2+ROW()-1),"") | C13: =IF(ROW()<=B$3,INDEX(FP!E:E,B$2+ROW()-1),"") | D13: =IF(ROW()<=B$3,INDEX(FP!F:F,B$2+ROW()-1),"") | E13: =IF(ROW()<=B$3,INDEX(FP!G:G,B$2+ROW()-1),"") | G13: =IF(ROW()<=B$3,INDEX(FP!C:C,B$2+ROW()-1),"") | H13: =IF(ROW()<=B$3,SUMIF(A$107:A$10052,A13,H$107:H$10052),"") | I13: =IF(ROW()<=B$3,SUMIFS(H$103:H$50052,A$103:A$50052,J13,I$103:I$50052,K13),"") | J13: =$A13 | K13: 99 | L13: =$A12 | M13: 99
A14: =IF(ROW()<=B$3,INDEX(FP!F:F,B$2+ROW()-1)&" - "&INDEX(FP!C:C,B$2+ROW()-1),"") | C14: =IF(ROW()<=B$3,INDEX(FP!E:E,B$2+ROW()-1),"") | D14: =IF(ROW()<=B$3,INDEX(FP!F:F,B$2+ROW()-1),"") | E14: =IF(ROW()<=B$3,INDEX(FP!G:G,B$2+ROW()-1),"") | G14: =IF(ROW()<=B$3,INDEX(FP!C:C,B$2+ROW()-1),"") | H14: =IF(ROW()<=B$3,SUMIF(A$107:A$10052,A14,H$107:H$10052),"") | I14: =IF(ROW()<=B$3,SUMIFS(H$103:H$50052,A$103:A$50052,J14,I$103:I$50052,K14),"") | J14: =$A14 | K14: 99 | L14: AAA | M14: HHH
A15: =IF(ROW()<=B$3,INDEX(FP!F:F,B$2+ROW()-1)&" - "&INDEX(FP!C:C,B$2+ROW()-1),"") | C15: =IF(ROW()<=B$3,INDEX(FP!E:E,B$2+ROW()-1),"") | D15: =IF(ROW()<=B$3,INDEX(FP!F:F,B$2+ROW()-1),"") | E15: =IF(ROW()<=B$3,INDEX(FP!G:G,B$2+ROW()-1),"") | G15: =IF(ROW()<=B$3,INDEX(FP!C:C,B$2+ROW()-1),"") | H15: =IF(ROW()<=B$3,SUMIF(A$107:A$10052,A15,H$107:H$10052),"") | I15: =IF(ROW()<=B$3,SUMIFS(H$103:H$50052,A$103:A$50052,J15,I$103:I$50052,K15),"") | J15: =$A15 | K15: 99 | L15: =$A14 | M15: 99
A16: =IF(ROW()<=B$3,INDEX(FP!F:F,B$2+ROW()-1)&" - "&INDEX(FP!C:C,B$2+ROW()-1),"") | C16: =IF(ROW()<=B$3,INDEX(FP!E:E,B$2+ROW()-1),"") | D16: =IF(ROW()<=B$3,INDEX(FP!F:F,B$2+ROW()-1),"") | E16: =IF(ROW()<=B$3,INDEX(FP!G:G,B$2+ROW()-1),"") | G16: =IF(ROW()<=B$3,INDEX(FP!C:C,B$2+ROW()-1),"") | H16: =IF(ROW()<=B$3,SUMIF(A$107:A$10052,A16,H$107:H$10052),"") | I16: =IF(ROW()<=B$3,SUMIFS(H$103:H$50052,A$103:A$50052,J16,I$103:I$50052,K16),"") | J16: =$A16 | K16: 99 | L16: AAA | M16: HHH
A17: =IF(ROW()<=B$3,INDEX(FP!F:F,B$2+ROW()-1)&" - "&INDEX(FP!C:C,B$2+ROW()-1),"") | C17: =IF(ROW()<=B$3,INDEX(FP!E:E,B$2+ROW()-1),"") | D17: =IF(ROW()<=B$3,INDEX(FP!F:F,B$2+ROW()-1),"") | E17: =IF(ROW()<=B$3,INDEX(FP!G:G,B$2+ROW()-1),"") | G17: =IF(ROW()<=B$3,INDEX(FP!C:C,B$2+ROW()-1),"") | H17: =IF(ROW()<=B$3,SUMIF(A$107:A$10052,A17,H$107:H$10052),"") | I17: =IF(ROW()<=B$3,SUMIFS(H$103:H$50052,A$103:A$50052,J17,I$103:I$50052,K17),"") | J17: =$A17 | K17: 99 | L17: =$A16 | M17: 99
A18: =IF(ROW()<=B$3,INDEX(FP!F:F,B$2+ROW()-1)&" - "&INDEX(FP!C:C,B$2+ROW()-1),"") | C18: =IF(ROW()<=B$3,INDEX(FP!E:E,B$2+ROW()-1),"") | D18: =IF(ROW()<=B$3,INDEX(FP!F:F,B$2+ROW()-1),"") | E18: =IF(ROW()<=B$3,INDEX(FP!G:G,B$2+ROW()-1),"") | G18: =IF(ROW()<=B$3,INDEX(FP!C:C,B$2+ROW()-1),"") | H18: =IF(ROW()<=B$3,SUMIF(A$107:A$10052,A18,H$107:H$10052),"") | I18: =IF(ROW()<=B$3,SUMIFS(H$103:H$50052,A$103:A$50052,J18,I$103:I$50052,K18),"") | J18: =$A18 | K18: 99 | L18: AAA | M18: HHH
A19: =IF(ROW()<=B$3,INDEX(FP!F:F,B$2+ROW()-1)&" - "&INDEX(FP!C:C,B$2+ROW()-1),"") | C19: =IF(ROW()<=B$3,INDEX(FP!E:E,B$2+ROW()-1),"") | D19: =IF(ROW()<=B$3,INDEX(FP!F:F,B$2+ROW()-1),"") | E19: =IF(ROW()<=B$3,INDEX(FP!G:G,B$2+ROW()-1),"") | G19: =IF(ROW()<=B$3,INDEX(FP!C:C,B$2+ROW()-1),"") | H19: =IF(ROW()<=B$3,SUMIF(A$107:A$10052,A19,H$107:H$10052),"") | I19: =IF(ROW()<=B$3,SUMIFS(H$103:H$50052,A$103:A$50052,J19,I$103:I$50052,K19),"") | J19: =$A19 | K19: 99 | L19: =$A18 | M19: 99
A20: =IF(ROW()<=B$3,INDEX(FP!F:F,B$2+ROW()-1)&" - "&INDEX(FP!C:C,B$2+ROW()-1),"") | C20: =IF(ROW()<=B$3,INDEX(FP!E:E,B$2+ROW()-1),"") | D20: =IF(ROW()<=B$3,INDEX(FP!F:F,B$2+ROW()-1),"") | E20: =IF(ROW()<=B$3,INDEX(FP!G:G,B$2+ROW()-1),"") | G20: =IF(ROW()<=B$3,INDEX(FP!C:C,B$2+ROW()-1),"") | H20: =IF(ROW()<=B$3,SUMIF(A$107:A$10052,A20,H$107:H$10052),"") | I20: =IF(ROW()<=B$3,SUMIFS(H$103:H$50052,A$103:A$50052,J20,I$103:I$50052,K20),"") | J20: =$A20 | K20: 99 | L20: AAA | M20: HHH
A21: =IF(ROW()<=B$3,INDEX(FP!F:F,B$2+ROW()-1)&" - "&INDEX(FP!C:C,B$2+ROW()-1),"") | C21: =IF(ROW()<=B$3,INDEX(FP!E:E,B$2+ROW()-1),"") | D21: =IF(ROW()<=B$3,INDEX(FP!F:F,B$2+ROW()-1),"") | E21: =IF(ROW()<=B$3,INDEX(FP!G:G,B$2+ROW()-1),"") | G21: =IF(ROW()<=B$3,INDEX(FP!C:C,B$2+ROW()-1),"") | H21: =IF(ROW()<=B$3,SUMIF(A$107:A$10052,A21,H$107:H$10052),"") | I21: =IF(ROW()<=B$3,SUMIFS(H$103:H$50052,A$103:A$50052,J21,I$103:I$50052,K21),"") | J21: =$A21 | K21: 99 | L21: =$A20 | M21: 99
A22: =IF(ROW()<=B$3,INDEX(FP!F:F,B$2+ROW()-1)&" - "&INDEX(FP!C:C,B$2+ROW()-1),"") | C22: =IF(ROW()<=B$3,INDEX(FP!E:E,B$2+ROW()-1),"") | D22: =IF(ROW()<=B$3,INDEX(FP!F:F,B$2+ROW()-1),"") | E22: =IF(ROW()<=B$3,INDEX(FP!G:G,B$2+ROW()-1),"") | G22: =IF(ROW()<=B$3,INDEX(FP!C:C,B$2+ROW()-1),"") | H22: =IF(ROW()<=B$3,SUMIF(A$107:A$10052,A22,H$107:H$10052),"") | I22: =IF(ROW()<=B$3,SUMIFS(H$103:H$50052,A$103:A$50052,J22,I$103:I$50052,K22),"") | J22: =$A22 | K22: 99 | L22: AAA | M22: HHH
A23: =IF(ROW()<=B$3,INDEX(FP!F:F,B$2+ROW()-1)&" - "&INDEX(FP!C:C,B$2+ROW()-1),"") | C23: =IF(ROW()<=B$3,INDEX(FP!E:E,B$2+ROW()-1),"") | D23: =IF(ROW()<=B$3,INDEX(FP!F:F,B$2+ROW()-1),"") | E23: =IF(ROW()<=B$3,INDEX(FP!G:G,B$2+ROW()-1),"") | G23: =IF(ROW()<=B$3,INDEX(FP!C:C,B$2+ROW()-1),"") | H23: =IF(ROW()<=B$3,SUMIF(A$107:A$10052,A23,H$107:H$10052),"") | I23: =IF(ROW()<=B$3,SUMIFS(H$103:H$50052,A$103:A$50052,J23,I$103:I$50052,K23),"") | J23: =$A23 | K23: 99 | L23: =$A22 | M23: 99
A24: =IF(ROW()<=B$3,INDEX(FP!F:F,B$2+ROW()-1)&" - "&INDEX(FP!C:C,B$2+ROW()-1),"") | C24: =IF(ROW()<=B$3,INDEX(FP!E:E,B$2+ROW()-1),"") | D24: =IF(ROW()<=B$3,INDEX(FP!F:F,B$2+ROW()-1),"") | E24: =IF(ROW()<=B$3,INDEX(FP!G:G,B$2+ROW()-1),"") | G24: =IF(ROW()<=B$3,INDEX(FP!C:C,B$2+ROW()-1),"") | H24: =IF(ROW()<=B$3,SUMIF(A$107:A$10052,A24,H$107:H$10052),"") | I24: =IF(ROW()<=B$3,SUMIFS(H$103:H$50052,A$103:A$50052,J24,I$103:I$50052,K24),"") | J24: =$A24 | K24: 99 | L24: AAA | M24: HHH
A25: =IF(ROW()<=B$3,INDEX(FP!F:F,B$2+ROW()-1)&" - "&INDEX(FP!C:C,B$2+ROW()-1),"") | C25: =IF(ROW()<=B$3,INDEX(FP!E:E,B$2+ROW()-1),"") | D25: =IF(ROW()<=B$3,INDEX(FP!F:F,B$2+ROW()-1),"") | E25: =IF(ROW()<=B$3,INDEX(FP!G:G,B$2+ROW()-1),"") | G25: =IF(ROW()<=B$3,INDEX(FP!C:C,B$2+ROW()-1),"") | H25: =IF(ROW()<=B$3,SUMIF(A$107:A$10052,A25,H$107:H$10052),"") | I25: =IF(ROW()<=B$3,SUMIFS(H$103:H$50052,A$103:A$50052,J25,I$103:I$50052,K25),"") | J25: =$A25 | K25: 99 | L25: =$A24 | M25: 99
A26: =IF(ROW()<=B$3,INDEX(FP!F:F,B$2+ROW()-1)&" - "&INDEX(FP!C:C,B$2+ROW()-1),"") | C26: =IF(ROW()<=B$3,INDEX(FP!E:E,B$2+ROW()-1),"") | D26: =IF(ROW()<=B$3,INDEX(FP!F:F,B$2+ROW()-1),"") | E26: =IF(ROW()<=B$3,INDEX(FP!G:G,B$2+ROW()-1),"") | G26: =IF(ROW()<=B$3,INDEX(FP!C:C,B$2+ROW()-1),"") | H26: =IF(ROW()<=B$3,SUMIF(A$107:A$10052,A26,H$107:H$10052),"") | I26: =IF(ROW()<=B$3,SUMIFS(H$103:H$50052,A$103:A$50052,J26,I$103:I$50052,K26),"") | J26: =$A26 | K26: 99 | L26: AAA | M26: HHH
A27: =IF(ROW()<=B$3,INDEX(FP!F:F,B$2+ROW()-1)&" - "&INDEX(FP!C:C,B$2+ROW()-1),"") | C27: =IF(ROW()<=B$3,INDEX(FP!E:E,B$2+ROW()-1),"") | D27: =IF(ROW()<=B$3,INDEX(FP!F:F,B$2+ROW()-1),"") | E27: =IF(ROW()<=B$3,INDEX(FP!G:G,B$2+ROW()-1),"") | G27: =IF(ROW()<=B$3,INDEX(FP!C:C,B$2+ROW()-1),"") | H27: =IF(ROW()<=B$3,SUMIF(A$107:A$10052,A27,H$107:H$10052),"") | I27: =IF(ROW()<=B$3,SUMIFS(H$103:H$50052,A$103:A$50052,J27,I$103:I$50052,K27),"") | J27: =$A27 | K27: 99 | L27: =$A26 | M27: 99
A28: =IF(ROW()<=B$3,INDEX(FP!F:F,B$2+ROW()-1)&" - "&INDEX(FP!C:C,B$2+ROW()-1),"") | C28: =IF(ROW()<=B$3,INDEX(FP!E:E,B$2+ROW()-1),"") | D28: =IF(ROW()<=B$3,INDEX(FP!F:F,B$2+ROW()-1),"") | E28: =IF(ROW()<=B$3,INDEX(FP!G:G,B$2+ROW()-1),"") | G28: =IF(ROW()<=B$3,INDEX(FP!C:C,B$2+ROW()-1),"") | H28: =IF(ROW()<=B$3,SUMIF(A$107:A$10052,A28,H$107:H$10052),"") | I28: =IF(ROW()<=B$3,SUMIFS(H$103:H$50052,A$103:A$50052,J28,I$103:I$50052,K28),"") | J28: =$A28 | K28: 99 | L28: AAA | M28: HHH
A29: =IF(ROW()<=B$3,INDEX(FP!F:F,B$2+ROW()-1)&" - "&INDEX(FP!C:C,B$2+ROW()-1),"") | C29: =IF(ROW()<=B$3,INDEX(FP!E:E,B$2+ROW()-1),"") | D29: =IF(ROW()<=B$3,INDEX(FP!F:F,B$2+ROW()-1),"") | E29: =IF(ROW()<=B$3,INDEX(FP!G:G,B$2+ROW()-1),"") | G29: =IF(ROW()<=B$3,INDEX(FP!C:C,B$2+ROW()-1),"") | H29: =IF(ROW()<=B$3,SUMIF(A$107:A$10052,A29,H$107:H$10052),"") | I29: =IF(ROW()<=B$3,SUMIFS(H$103:H$50052,A$103:A$50052,J29,I$103:I$50052,K29),"") | J29: =$A29 | K29: 99 | L29: =$A28 | M29: 99
A30: =IF(ROW()<=B$3,INDEX(FP!F:F,B$2+ROW()-1)&" - "&INDEX(FP!C:C,B$2+ROW()-1),"") | C30: =IF(ROW()<=B$3,INDEX(FP!E:E,B$2+ROW()-1),"") | D30: =IF(ROW()<=B$3,INDEX(FP!F:F,B$2+ROW()-1),"") | E30: =IF(ROW()<=B$3,INDEX(FP!G:G,B$2+ROW()-1),"") | G30: =IF(ROW()<=B$3,INDEX(FP!C:C,B$2+ROW()-1),"") | H30: =IF(ROW()<=B$3,SUMIF(A$107:A$10052,A30,H$107:H$10052),"") | I30: =IF(ROW()<=B$3,SUMIFS(H$103:H$50052,A$103:A$50052,J30,I$103:I$50052,K30),"") | J30: =$A30 | K30: 99 | L30: AAA | M30: HHH
A31: =IF(ROW()<=B$3,INDEX(FP!F:F,B$2+ROW()-1)&" - "&INDEX(FP!C:C,B$2+ROW()-1),"") | C31: =IF(ROW()<=B$3,INDEX(FP!E:E,B$2+ROW()-1),"") | D31: =IF(ROW()<=B$3,INDEX(FP!F:F,B$2+ROW()-1),"") | E31: =IF(ROW()<=B$3,INDEX(FP!G:G,B$2+ROW()-1),"") | G31: =IF(ROW()<=B$3,INDEX(FP!C:C,B$2+ROW()-1),"") | H31: =IF(ROW()<=B$3,SUMIF(A$107:A$10052,A31,H$107:H$10052),"") | I31: =IF(ROW()<=B$3,SUMIFS(H$103:H$50052,A$103:A$50052,J31,I$103:I$50052,K31),"") | J31: =$A31 | K31: 99 | L31: =$A30 | M31: 99
A32: =IF(ROW()<=B$3,INDEX(FP!F:F,B$2+ROW()-1)&" - "&INDEX(FP!C:C,B$2+ROW()-1),"") | C32: =IF(ROW()<=B$3,INDEX(FP!E:E,B$2+ROW()-1),"") | D32: =IF(ROW()<=B$3,INDEX(FP!F:F,B$2+ROW()-1),"") | E32: =IF(ROW()<=B$3,INDEX(FP!G:G,B$2+ROW()-1),"") | G32: =IF(ROW()<=B$3,INDEX(FP!C:C,B$2+ROW()-1),"") | H32: =IF(ROW()<=B$3,SUMIF(A$107:A$10052,A32,H$107:H$10052),"") | I32: =IF(ROW()<=B$3,SUMIFS(H$103:H$50052,A$103:A$50052,J32,I$103:I$50052,K32),"") | J32: =$A32 | K32: 99 | L32: AAA | M32: HHH
A33: =IF(ROW()<=B$3,INDEX(FP!F:F,B$2+ROW()-1)&" - "&INDEX(FP!C:C,B$2+ROW()-1),"") | C33: =IF(ROW()<=B$3,INDEX(FP!E:E,B$2+ROW()-1),"") | D33: =IF(ROW()<=B$3,INDEX(FP!F:F,B$2+ROW()-1),"") | E33: =IF(ROW()<=B$3,INDEX(FP!G:G,B$2+ROW()-1),"") | G33: =IF(ROW()<=B$3,INDEX(FP!C:C,B$2+ROW()-1),"") | H33: =IF(ROW()<=B$3,SUMIF(A$107:A$10052,A33,H$107:H$10052),"") | I33: =IF(ROW()<=B$3,SUMIFS(H$103:H$50052,A$103:A$50052,J33,I$103:I$50052,K33),"") | J33: =$A33 | K33: 99 | L33: =$A32 | M33: 99
A34: =IF(ROW()<=B$3,INDEX(FP!F:F,B$2+ROW()-1)&" - "&INDEX(FP!C:C,B$2+ROW()-1),"") | C34: =IF(ROW()<=B$3,INDEX(FP!E:E,B$2+ROW()-1),"") | D34: =IF(ROW()<=B$3,INDEX(FP!F:F,B$2+ROW()-1),"") | E34: =IF(ROW()<=B$3,INDEX(FP!G:G,B$2+ROW()-1),"") | G34: =IF(ROW()<=B$3,INDEX(FP!C:C,B$2+ROW()-1),"") | H34: =IF(ROW()<=B$3,SUMIF(A$107:A$10052,A34,H$107:H$10052),"") | I34: =IF(ROW()<=B$3,SUMIFS(H$103:H$50052,A$103:A$50052,J34,I$103:I$50052,K34),"") | J34: =$A34 | K34: 99 | L34: AAA | M34: HHH
A35: =IF(ROW()<=B$3,INDEX(FP!F:F,B$2+ROW()-1)&" - "&INDEX(FP!C:C,B$2+ROW()-1),"") | C35: =IF(ROW()<=B$3,INDEX(FP!E:E,B$2+ROW()-1),"") | D35: =IF(ROW()<=B$3,INDEX(FP!F:F,B$2+ROW()-1),"") | E35: =IF(ROW()<=B$3,INDEX(FP!G:G,B$2+ROW()-1),"") | G35: =IF(ROW()<=B$3,INDEX(FP!C:C,B$2+ROW()-1),"") | H35: =IF(ROW()<=B$3,SUMIF(A$107:A$10052,A35,H$107:H$10052),"") | I35: =IF(ROW()<=B$3,SUMIFS(H$103:H$50052,A$103:A$50052,J35,I$103:I$50052,K35),"") | J35: =$A35 | K35: 99 | L35: =$A34 | M35: 99
A36: =IF(ROW()<=B$3,INDEX(FP!F:F,B$2+ROW()-1)&" - "&INDEX(FP!C:C,B$2+ROW()-1),"") | C36: =IF(ROW()<=B$3,INDEX(FP!E:E,B$2+ROW()-1),"") | D36: =IF(ROW()<=B$3,INDEX(FP!F:F,B$2+ROW()-1),"") | E36: =IF(ROW()<=B$3,INDEX(FP!G:G,B$2+ROW()-1),"") | G36: =IF(ROW()<=B$3,INDEX(FP!C:C,B$2+ROW()-1),"") | H36: =IF(ROW()<=B$3,SUMIF(A$107:A$10052,A36,H$107:H$10052),"") | I36: =IF(ROW()<=B$3,SUMIFS(H$103:H$50052,A$103:A$50052,J36,I$103:I$50052,K36),"") | J36: =$A36 | K36: 99 | L36: AAA | M36: HHH
A37: =IF(ROW()<=B$3,INDEX(FP!F:F,B$2+ROW()-1)&" - "&INDEX(FP!C:C,B$2+ROW()-1),"") | C37: =IF(ROW()<=B$3,INDEX(FP!E:E,B$2+ROW()-1),"") | D37: =IF(ROW()<=B$3,INDEX(FP!F:F,B$2+ROW()-1),"") | E37: =IF(ROW()<=B$3,INDEX(FP!G:G,B$2+ROW()-1),"") | G37: =IF(ROW()<=B$3,INDEX(FP!C:C,B$2+ROW()-1),"") | H37: =IF(ROW()<=B$3,SUMIF(A$107:A$10052,A37,H$107:H$10052),"") | I37: =IF(ROW()<=B$3,SUMIFS(H$103:H$50052,A$103:A$50052,J37,I$103:I$50052,K37),"") | J37: =$A37 | K37: 99 | L37: =$A36 | M37: 99
A38: =IF(ROW()<=B$3,INDEX(FP!F:F,B$2+ROW()-1)&" - "&INDEX(FP!C:C,B$2+ROW()-1),"") | C38: =IF(ROW()<=B$3,INDEX(FP!E:E,B$2+ROW()-1),"") | D38: =IF(ROW()<=B$3,INDEX(FP!F:F,B$2+ROW()-1),"") | E38: =IF(ROW()<=B$3,INDEX(FP!G:G,B$2+ROW()-1),"") | G38: =IF(ROW()<=B$3,INDEX(FP!C:C,B$2+ROW()-1),"") | H38: =IF(ROW()<=B$3,SUMIF(A$107:A$10052,A38,H$107:H$10052),"") | I38: =IF(ROW()<=B$3,SUMIFS(H$103:H$50052,A$103:A$50052,J38,I$103:I$50052,K38),"") | J38: =$A38 | K38: 99 | L38: AAA | M38: HHH
A39: =IF(ROW()<=B$3,INDEX(FP!F:F,B$2+ROW()-1)&" - "&INDEX(FP!C:C,B$2+ROW()-1),"") | C39: =IF(ROW()<=B$3,INDEX(FP!E:E,B$2+ROW()-1),"") | D39: =IF(ROW()<=B$3,INDEX(FP!F:F,B$2+ROW()-1),"") | E39: =IF(ROW()<=B$3,INDEX(FP!G:G,B$2+ROW()-1),"") | G39: =IF(ROW()<=B$3,INDEX(FP!C:C,B$2+ROW()-1),"") | H39: =IF(ROW()<=B$3,SUMIF(A$107:A$10052,A39,H$107:H$10052),"") | I39: =IF(ROW()<=B$3,SUMIFS(H$103:H$50052,A$103:A$50052,J39,I$103:I$50052,K39),"") | J39: =$A39 | K39: 99 | L39: =$A38 | M39: 99
A40: =IF(ROW()<=B$3,INDEX(FP!F:F,B$2+ROW()-1)&" - "&INDEX(FP!C:C,B$2+ROW()-1),"") | C40: =IF(ROW()<=B$3,INDEX(FP!E:E,B$2+ROW()-1),"") | D40: =IF(ROW()<=B$3,INDEX(FP!F:F,B$2+ROW()-1),"") | E40: =IF(ROW()<=B$3,INDEX(FP!G:G,B$2+ROW()-1),"") | G40: =IF(ROW()<=B$3,INDEX(FP!C:C,B$2+ROW()-1),"") | H40: =IF(ROW()<=B$3,SUMIF(A$107:A$10052,A40,H$107:H$10052),"") | I40: =IF(ROW()<=B$3,SUMIFS(H$103:H$50052,A$103:A$50052,J40,I$103:I$50052,K40),"") | J40: =$A40 | K40: 99 | L40: AAA | M40: HHH
...

Sheet Spolu
A1: Priebežné čerpanie a vyúčtovanie finančných prostriedkov poskytnutých zo štátneho rozpočtu v oblasti športu v roku 2019
B3: Prijímateľ dotácie: | C3: =INDEX(Adr!B2:B137,Doklady!B102) -> Slovenská skialpinistická asociácia | G3: =Doklady!H100 -> V1
B4: IČO: | C4: =INDEX(Adr!A2:A210,Doklady!B102) -> 37998919 | G4: =Doklady!H101 -> 43490
B5: Právna forma: | C5: =INDEX(Adr!C2:C210,Doklady!B102) -> občianske združenie
B6: Sídlo: | C6: =INDEX(Adr!D2:D210,Doklady!B102)&", "&INDEX(Adr!E2:E210,Doklady!B102)&", "&INDEX(Adr!F2:F210,Doklady!B102) -> Bobrovec 550, Bobrovec, 032 21
A9: PPG | B9: Podprogram | C9: Poskytnuté (eur) | D9: Vyúčtované (eur) | E9: Povinnosť vrátiť (eur)
A10: 026 01 | B10: Šport pre všetkých, školský a univerzitný šport | C10: =SUMIF(FP!J:J,Doklady!$B$1&A10,FP!D:D) -> 0 | D10: =C10-E10 -> 0 | E10: =SUMIF(I:I,A10,G:G) -> 0 | J10: AAA
A11: 026 02 | B11: Uznané športy | C11: =SUMIF(FP!J:J,Doklady!$B$1&A11,FP!D:D) -> 15000 | D11: =DSUM(Doklady!A103:I10010,"GGG",J10:J14) -> 15838.64 | E11: 0 | H11: Doplniť manuálne vypočítanú sumu na vrátenie! | J11: =J40 -> a - skialpinizmus - bežné transfery
A12: 026 03 | B12: Národné športové projekty | C12: =SUMIF(FP!J:J,Doklady!$B$1&A12,FP!D:D) -> 0 | D12: =C12-E12 -> 0 | E12: =SUMIF(I:I,A12,G:G) -> 0 | H12: (v bunke E11 namiesto slova "VÝPOČET") | J12: =J41 -> a - softbal - bežné transfery
A13: 026 04 | B13: Športová infraštruktúra | C13: =SUMIF(FP!J:J,Doklady!$B$1&A13,FP!D:D) -> 0 | D13: =C13-E13 -> 0 | E13: =SUMIF(I:I,A13,G:G) -> 0 | J13: =J45 -> 2
A14: 026 05 | B14: Prierezové činnosti v športe | C14: =SUMIF(FP!J:J,Doklady!$B$1&A14,FP!D:D) -> 0 | D14: =C14-E14 -> 0 | E14: =SUMIF(I:I,A14,G:G) -> 0 | J14: =J46 -> a - softbal - bežné transfery
A16: Účel | B16: Názov | G16: Suma
A17: a | B17: príspevok uznaným športom | G17: =SUMIF(FP!I:I,Doklady!$B$1&A17,FP!D:D) -> 15000
A18: b | B18: príspevok Slovenskému olympijskému a športovému výboru | G18: =SUMIF(FP!I:I,Doklady!$B$1&A18,FP!D:D) -> 0
A19: c | B19: príspevok Slovenskému paralympijskému výboru | G19: =SUMIF(FP!I:I,Doklady!$B$1&A19,FP!D:D) -> 0
A20: d | B20: príspevok športovcom top tímu | G20: =SUMIF(FP!I:I,Doklady!$B$1&A20,FP!D:D) -> 0
A21: e | B21: rozvoj športov, ktoré nie sú uznanými podľa zákona č. 440/2015 Z. z. | G21: =SUMIF(FP!I:I,Doklady!$B$1&A21,FP!D:D) -> 0
A22: f | B22: organizovanie významných a tradičných športových podujatí na území SR v roku 2019 | G22: =SUMIF(FP!I:I,Doklady!$B$1&A22,FP!D:D) -> 0
A23: g | B23: projekty školského športu, univerzitného športu a športu pre všetkých | G23: =SUMIF(FP!I:I,Doklady!$B$1&A23,FP!D:D) -> 0
A24: h | B24: podpora a rozvoj turistických a cykloturistických trás | G24: =SUMIF(FP!I:I,Doklady!$B$1&A24,FP!D:D) -> 0
A25: i | B25: finančné odmeny športovcom za výsledky dosiahnuté v roku 2018 a trénerom mládeže za dosiahnuté výsledky ich športovcov v roku 2018 a za celoživotnú prácu s mládežou | G25: =SUMIF(FP!I:I,Doklady!$B$1&A25,FP!D:D) -> 0
A26: j | B26: projekty pre popularizáciu pohybových aktivít detí, mládeže a seniorov | G26: =SUMIF(FP!I:I,Doklady!$B$1&A26,FP!D:D) -> 0
A27: k | G27: =SUMIF(FP!I:I,Doklady!$B$1&A27,FP!D:D) -> 0
A28: l | G28: =SUMIF(FP!I:I,Doklady!$B$1&A28,FP!D:D) -> 0
A29: m | G29: =SUMIF(FP!I:I,Doklady!$B$1&A29,FP!D:D) -> 0
A30: n | G30: =SUMIF(FP!I:I,Doklady!$B$1&A30,FP!D:D) -> 0
A31: o | G31: =SUMIF(FP!I:I,Doklady!$B$1&A31,FP!D:D) -> 0
A32: p | G32: =SUMIF(FP!I:I,Doklady!$B$1&A32,FP!D:D) -> 0
A33: j
A35: Použitie príspevku uznanému športu
A37: Účel | B37: ="Šport "&I39 -> Šport skialpinizmus | C37: mládež 23 MIN. | D37: talenty MIN. | E37: reprezentácia MIN. | F37: prevádzka MAX. | G37: SPOLU | J37: =COUNTIF(FP!I:I,Doklady!B1&"a") -> 1
A38: a | B38: Poskytnutý príspevok uznanému športu | C38: =G38*0.15 -> 2250 | D38: =G38*0.2 -> 3000 | E38: =G38*0.25 -> 3750 | F38: =G38*0.15 -> 2250 | G38: =SUMIF(FP!K:K,Spolu!I39,FP!D:D) -> 15000
A39: a | B39: Vyúčtovaný príspevok uznanému športu | C39: =DSUM(Doklady!A103:I10010,"GGG",Spolu!J39:K40) -> 800 | D39: =DSUM(Doklady!A103:I10010,"GGG",Spolu!L39:M40) -> 3018.67 | E39: =DSUM(Doklady!A103:I10010,"GGG",Spolu!N39:O40) -> 9912.17 | F39: =DSUM(Doklady!A103:I10010,"GGG",Spolu!P39:Q40) -> 2107.8 | I39: =IF(J37>0,INDEX(FP!K:K,Doklady!B2),".") -> skialpinizmus | J39: AAA | K39: HHH | L39: AAA | M39: HHH | N39: AAA | O39: HHH | P39: AAA | Q39: HHH
A40: a | B40: ROZDIEL | C40: =MAX(C38-C39,0) -> 1450 | D40: =MAX(D38-D39,0) -> 0 | E40: =MAX(E38-E39,0) -> 0 | F40: =MIN(G38,MAX(-F38+F39,0)) -> 0 | G40: =MIN(C40+D40+E40+F40,G38) -> 1450 | J40: =IF(J37>0,"a - "&INDEX(FP!C:C,Doklady!B2),2) -> a - skialpinizmus - bežné transfery | K40: 1 | L40: =IF(J37>0,"a - "&INDEX(FP!C:C,Doklady!B2),2) -> a - skialpinizmus - bežné transfery | M40: 2 | N40: =IF(J37>0,"a - "&INDEX(FP!C:C,Doklady!B2),2) -> a - skialpinizmus - bežné transfery | O40: 3 | P40: =IF(J37>0,"a - "&INDEX(FP!C:C,Doklady!B2),2) -> a - skialpinizmus - bežné transfery | Q40: 4
J41: =IF(J37>0,"a - "&INDEX(FP!C:C,Doklady!B2+1),2) -> a - softbal - bežné transfery | K41: 1 | L41: =IF(J37>0,"a - "&INDEX(FP!C:C,Doklady!B2+1),2) -> a - softbal - bežné transfery | M41: 2 | N41: =IF(J37>0,"a - "&INDEX(FP!C:C,Doklady!B2+1),2) -> a - softbal - bežné transfery | O41: 3 | P41: =IF(J37>0,"a - "&INDEX(FP!C:C,Doklady!B2+1),2) -> a - softbal - bežné transfery | Q41: 4
A42: Účel | B42: =IF(J37>2,"Šport "&INDEX(FP!K:K,Doklady!B2+2),"Šport "&I44) -> Šport . | C42: mládež 23 MIN. | D42: talenty MIN. | E42: reprezentácia MIN. | F42: prevádzka MAX. | G42: SPOLU | J42: =J37-2 -> -1
A43: a | B43: Poskytnutý príspevok uznanému športu | C43: =G43*0.15 -> 0 | D43: =G43*0.2 -> 0 | E43: =G43*0.25 -> 0 | F43: =G43*0.15 -> 0 | G43: =SUMIF(FP!K:K,I44,FP!D:D) -> 0
A44: a | B44: Vyúčtovaný príspevok uznanému športu | C44: =DSUM(Doklady!A103:I10010,"GGG",Spolu!J44:K46) -> 0 | D44: =DSUM(Doklady!A103:I10010,"GGG",Spolu!L44:M46) -> 0 | E44: =DSUM(Doklady!A103:I10010,"GGG",Spolu!N44:O46) -> 0 | F44: =DSUM(Doklady!A103:I10010,"GGG",Spolu!P44:Q46) -> 0 | I44: =IF(J37>1,INDEX(FP!K:K,Doklady!B2+1),".") -> . | J44: AAA | K44: HHH | L44: AAA | M44: HHH | N44: AAA | O44: HHH | P44: AAA | Q44: HHH
A45: a | B45: ROZDIEL | C45: =MAX(C43-C44,0) -> 0 | D45: =MAX(D43-D44,0) -> 0 | E45: =MAX(E43-E44,0) -> 0 | F45: =MIN(G43,MAX(-F43+F44,0)) -> 0 | G45: =MIN(C45+D45+E45+F45,G43) -> 0 | J45: =IF(J42>0,"a - "&INDEX(FP!C:C,Doklady!B2+2),2) -> 2 | K45: 1 | L45: =IF(J42>0,"a - "&INDEX(FP!C:C,Doklady!B2+2),2) -> 2 | M45: 2 | N45: =IF(J42>0,"a - "&INDEX(FP!C:C,Doklady!B2+2),2) -> 2 | O45: 3 | P45: =IF(J42>0,"a - "&INDEX(FP!C:C,Doklady!B2+2),2) -> 2 | Q45: 4
J46: =+J41 -> a - softbal - bežné transfery | K46: 1 | L46: =+L41 -> a - softbal - bežné transfery | M46: 2 | N46: =+N41 -> a - softbal - bežné transfery | O46: 3 | P46: =+P41 -> a - softbal - bežné transfery | Q46: 4
...

Sheet Adr
A1: IČO | B1: Subjekt | C1: Právna forma | D1: Ulica a číslo domu | E1: Mesto | F1: PSČ | G1: Webové sídlo | H1: E-mail | I1: Štatutárny zástupca | J1: Štatutár - funkcia | K1: Kontakná osoba | L1: Kontakt telefón
A2: 30787009 | B2: Slovenská asociácia amerického futbalu, o.z. | C2: občianske združenie | D2: Revolučná 3289/1 | E2: Žilina | F2: 010 01 | G2: www.saaf.sk | H2: info@saaf.sk | I2: Ján Polák | J2: prezident | K2: Ján Polák | L2: 421904984419
A3: 00631655 | B3: Slovenská asociácia boccie | C3: občianske združenie | D3: Štefana Moyzesa 57/4304 | E3: Lučenec | F3: 984 01 | G3: www.bocce.sk | H3: slovenska.asociacia.bocce@gmail.com | I3: Veronika Obročníková | J3: podpredsedníčka | K3: Obročníková Veronika | L3: 421907188400
A4: 42019541 | B4: Slovenská asociácia čínskeho wushu | C4: občianske združenie | D4: Námestie SNP 11 | E4: Banská Bystrica | F4: 974 01 | G4: www.wushuslovakia.sk | H4: email@wushuslovakia.sk | I4: Ľubomír France | J4: prezident | K4: Ľubomír France | L4: 421905948422
A5: 30842069 | B5: Slovenská asociácia fitnes, kulturistiky a silového trojboja | C5: občianske združenie | D5: Junácka 6 | E5: Bratislava 3 | F5: 832 80 | G5: www.sakst.sk | H5: safkst@gmail.com | I5: Boris Mlsna | J5: prezident | K5: Boris Mlsna | L5: 421903555518
A6: 31749852 | B6: Slovenská asociácia Frisbee | C6: občianske združenie | D6: Eisnerova 6131/13 | E6: Bratislava 4 | F6: 841 07 | G6: www.szf.sk | H6: safslovakia@gmail.com | I6: Juraj Turan | J6: predseda výkonnej rady | K6: Tomáš Lehuta | L6: 421915177443
A7: 31940668 | B7: Slovenská asociácia korfbalu | C7: občianske združenie | D7: Makovického 6/2 | E7: Prievidza | F7: 971 01 | G7: www.korfbal.sk | H7: martinsonoga@gmail.com | I7: Martin Sonoga | J7: prezident | K7: Martin Sonoga | L7: 421911361044
A8: 31824021 | B8: Slovenská asociácia motoristického športu | C8: občianske združenie | D8: Fatranská 3 | E8: Nitra | F8: 949 01 | G8: www.sams-asn.sk | H8: samssk@nextra.sk | I8: Dušan Koblišek | J8: prezident | K8: Vojtech Ruisl | L8: 421903403105
A9: 30814910 | B9: Slovenská asociácia Taekwondo WTF | C9: občianske združenie | D9: Junácka 6 | E9: Bratislava 3 | F9: 832 80 | G9: www.satkd.sk | H9: satkd.wtf@gmail.com | I9: Pavel Ižarik | J9: prezident | K9: Pavel Ižarik | L9: 421902901640
A10: 30844568 | B10: Slovenská baseballová federácia | C10: občianske združenie | D10: Junácka 6 | E10: Bratislava 3 | F10: 832 80 | G10: www.baseballslovakia.com | H10: office@baseballslovakia.com | I10: Dušan Noga | J10: prezident | K10: František Bunta | L10: 421905294239
A11: 17315166 | B11: Slovenská basketbalová asociácia | C11: občianske združenie | D11: Junácka 6 | E11: Bratislava 3 | F11: 832 80 | G11: www.slovakbasket.sk | H11: sekretariat@slovakbasket.sk | I11: Pavel Bagin | J11: prezident | K11: Štefan Kubík | L11: 421905504810
A12: 31744621 | B12: Slovenská boxerská federácia | C12: občianske združenie | D12: Dr. Vladimíra Clementisa 10 | E12: Bratislava 2 | F12: 821 02 | G12: www.sbf.sk | H12: sbf@sbf.sk | I12: Tomáš Kovács | J12: prezident | K12: Mária Rapčanová | L12: 421949246786
A13: 36064742 | B13: Slovenská federácia pétanque | C13: občianske združenie | D13: Ilýrska 2/A | E13: Bratislava 5 | F13: 851 10 | G13: www.sfp.sk | H13: prezidium@sfp.sk | I13: David Mortreux | J13: prezident | K13: Martin Ševček | L13: 421915719961
... A38: 30811082 | B38: Slovenský olympijský a športový výbor | C38: občianske združenie | D38: Kukučínova 26 | E38: Bratislava 3 | F38: 838 08 | G38: www.olympic.sk | H38: office@olympic.sk | I38: Anton Siekel | J38: prezident | K38: Gábor Asványi | L38: 421903584992
A39: 31745661 | B39: Slovenský paralympijský výbor | C39: občianske združenie | D39: Benediktiho 5 | E39: Bratislava 1 | F39: 811 05 | G39: www.spv.sk | H39: spcoffice@spv.sk | I39: Ján Riapoš | J39: predseda | K39: Ján Riapoš
A40: 30688060 | B40: Slovenský rýchlokorčuliarsky zväz | C40: občianske združenie | D40: Za Hornádom 15 | E40: Spišská Nová Ves | F40: 052 01 | G40: www.speedskating.sk | H40: strack@stez.sk | I40: Ján Magdoško | J40: predseda | K40: Ján Magdoško | L40: 421903601379
A41: 30806836 | B41: Slovenský stolnotenisový zväz | C41: občianske združenie | D41: Černockého 6 | E41: Bratislava 3 | F41: 831 53 | G41: www.sstz.sk | H41: sstz1@sstz.sk | I41: Zdenko Kríž | J41: predseda | K41: Anton Hamran | L41: 421905245825
A42: 00603341 | B42: Slovenský strelecký zväz (SSZ) | C42: občianske združenie | D42: Wolkrova 4 | E42: Bratislava 5 | F42: 851 01 | G42: www.shooting.sk | H42: ssz@shooting.sk | I42: Miloslav Benca | J42: prezident | K42: Dagmar Raschmanová | L42: 421905431727
A43: 17310571 | B43: Slovenský šachový zväz | C43: občianske združenie | D43: Bernolákovo námestie 811/25 | E43: Nové Zámky | F43: 940 02 | G43: www.chess.sk | H43: sekretariat@chess.sk | I43: František Jablonický | J43: prezident | K43: Vladimír Szűcs | L43: 421903363993
A44: 30806437 | B44: Slovenský šermiarsky zväz | C44: občianske združenie | D44: Trnavská cesta 39 | E44: Bratislava 3 | F44: 831 04 | G44: www.slovak-fencing.sk | H44: slovakfencing@mail.t-com.sk | I44: Tatiana Drobná | J44: prezident | K44: Gabriela Geršiová | L44: 421903740961
A45: 30811384 | B45: Slovenský tenisový zväz | C45: občianske združenie | D45: Príkopova 6 | E45: Bratislava 3 | F45: 831 03 | G45: www.stz.sk | H45: stz@stz.sk | I45: Tibor Macko | J45: prezident | K45: Michal Sihelník | L45: 421904700522
A46: 00688304 | B46: Slovenský veslársky zväz | C46: občianske združenie | D46: Junácka 6 | E46: Bratislava 3 | F46: 832 08 | G46: www.veslovanie.sk | H46: rowingslovakia@gmail.com | I46: Alexander Dénes | J46: predseda | K46: Oľga Nikovová | L46: 421908733141
A47: 31791981 | B47: SLOVENSKÝ ZÁPASNÍCKY ZVÄZ | C47: občianske združenie | D47: Junácka 2951/6 | E47: Bratislava 3 | F47: 832 80 | G47: www.zapasenie.sk | H47: szz@zapasenie.sk | I47: Zoltán Szeiler, Elena Valentová | J47: viceprezident, generálna sekretárka | K47: Elena Valentová | L47: 421917476268
A48: 30811546 | B48: Slovenský zväz bedmintonu | C48: občianske združenie | D48: Slovenská 19 | E48: Prešov | F48: 080 01 | G48: www.bedminton.sk | H48: sekretar@bedminton.sk | I48: Peter Tarcala | J48: generálny sekretár | K48: Peter Tarcala | L48: 421905257791
A49: 35656743 | B49: Slovenský zväz biatlonu | C49: občianske združenie | D49: Partizánska cesta 3501/71 | E49: Banská Bystrica | F49: 974 01 | G49: www.biathlon.sk | H49: svk@biathlon.sk | I49: Tomáš Fusko | J49: prezident | K49: Silvia Šarkozi | L49: 421911323487
A50: 36067580 | B50: Slovenský zväz bobistov | C50: občianske združenie | D50: Líščie údolie 134 | E50: Bratislava 4 | F50: 841 04 | G50: www.boby.sk | H50: szb@boby.sk | I50: Milan Jagnešák | J50: predseda | K50: Zdenka Jagnešáková | L50: 421903262626
A51: 00684112 | B51: Slovenský zväz cyklistiky | C51: občianske združenie | D51: Junácka 6 | E51: Bratislava 3 | F51: 832 80 | G51: www.cyklistikaszc.sk | H51: szc@cyklistikaszc.sk | I51: Peter Privara, Katarína Jakubová | J51: prezident, generálny sekretár | K51: Katarína Jakubová | L51: 421911395727
... A72: 00585319 | B72: Zväz potápačov Slovenska | C72: občianske združenie | D72: Wolkrova 4 | E72: Bratislava 5 | F72: 851 01 | G72: www.zps-diving.sk | H72: zps@zps-diving.sk | I72: Roman Baláž | J72: prezident | K72: Patrik Fiala | L72: 421907731995

Sheet FP
A1: IČO | B1: Prijímateľ | C1: Predmet (názov, miesto, termín, parametre) | D1: Schválená (eur) | E1: SF (%) | F1: Účel | G1: PPG | H1: B/K | I1: ico+ucel | J1: ico+ppg | K1: Šport | L1: ICO+PPG+BK | M1: Zoraď
A2: 30787009 | B2: Slovenská asociácia amerického futbalu, o.z. | C2: americký futbal - bežné transfery | D2: 20790 | E2: 0 | F2: a | G2: 026 02 | H2: B | I2: =A2&F2 -> 30787009a | J2: =A2&G2 -> 30787009026 02 | K2: americký futbal | L2: =A2&G2&H2 -> 30787009026 02B | M2: =B2&F2&H2&C2 -> Slovenská asociácia amerického futbalu, o.z.aBamerický futbal - bežné transfery
A3: 00631655 | B3: Slovenská asociácia boccie | C3: boccia - bežné transfery | D3: 33818 | E3: 0 | F3: a | G3: 026 02 | H3: B | I3: =A3&F3 -> 00631655a | J3: =A3&G3 -> 00631655026 02 | K3: boccia | L3: =A3&G3&H3 -> 00631655026 02B | M3: =B3&F3&H3&C3 -> Slovenská asociácia boccieaBboccia - bežné transfery
A4: 00631655 | B4: Slovenská asociácia boccie | C4: boule lyonnaise - bežné transfery | D4: 17154 | E4: 0 | F4: a | G4: 026 02 | H4: B | I4: =A4&F4 -> 00631655a | J4: =A4&G4 -> 00631655026 02 | K4: boule lyonnaise | L4: =A4&G4&H4 -> 00631655026 02B | M4: =B4&F4&H4&C4 -> Slovenská asociácia boccieaBboule lyonnaise - bežné transfery
A5: 42019541 | B5: Slovenská asociácia čínskeho wushu | C5: wushu - bežné transfery | D5: 18029 | E5: 0 | F5: a | G5: 026 02 | H5: B | I5: =A5&F5 -> 42019541a | J5: =A5&G5 -> 42019541026 02 | K5: wushu | L5: =A5&G5&H5 -> 42019541026 02B | M5: =B5&F5&H5&C5 -> Slovenská asociácia čínskeho wushuaBwushu - bežné transfery
A6: 42019541 | B6: Slovenská asociácia čínskeho wushu | C6: Peter Kysel | D6: 5000 | E6: 0 | F6: d | G6: 026 03 | H6: B | I6: =A6&F6 -> 42019541d | J6: =A6&G6 -> 42019541026 03 | K6: wushu | L6: =A6&G6&H6 -> 42019541026 03B | M6: =B6&F6&H6&C6 -> Slovenská asociácia čínskeho wushudBPeter Kysel
A7: 30842069 | B7: Slovenská asociácia fitnes, kulturistiky a silového trojboja | C7: kulturistika a fitnes - bežné transfery | D7: 489913 | E7: 0 | F7: a | G7: 026 02 | H7: B | I7: =A7&F7 -> 30842069a | J7: =A7&G7 -> 30842069026 02 | K7: kulturistika a fitnes | L7: =A7&G7&H7 -> 30842069026 02B | M7: =B7&F7&H7&C7 -> Slovenská asociácia fitnes, kulturistiky a silového trojbojaaBkulturistika a fitnes - bežné transfery
A8: 30842069 | B8: Slovenská asociácia fitnes, kulturistiky a silového trojboja | C8: silové športy - bežné transfery | D8: 45091 | E8: 0 | F8: a | G8: 026 02 | H8: B | I8: =A8&F8 -> 30842069a | J8: =A8&G8 -> 30842069026 02 | K8: silové športy | L8: =A8&G8&H8 -> 30842069026 02B | M8: =B8&F8&H8&C8 -> Slovenská asociácia fitnes, kulturistiky a silového trojbojaaBsilové športy - bežné transfery
A9: 30842069 | B9: Slovenská asociácia fitnes, kulturistiky a silového trojboja | C9: Beata Graňáková | D9: 5000 | E9: 0 | F9: d | G9: 026 03 | H9: B | I9: =A9&F9 -> 30842069d | J9: =A9&G9 -> 30842069026 03 | K9: kulturistika a fitnes | L9: =A9&G9&H9 -> 30842069026 03B | M9: =B9&F9&H9&C9 -> Slovenská asociácia fitnes, kulturistiky a silového trojbojadBBeata Graňáková
A10: 30842069 | B10: Slovenská asociácia fitnes, kulturistiky a silového trojboja | C10: Ivana Horná | D10: 10000 | E10: 0 | F10: d | G10: 026 03 | H10: B | I10: =A10&F10 -> 30842069d | J10: =A10&G10 -> 30842069026 03 | K10: kulturistika a fitnes | L10: =A10&G10&H10 -> 30842069026 03B | M10: =B10&F10&H10&C10 -> Slovenská asociácia fitnes, kulturistiky a silového trojbojadBIvana Horná
A11: 30842069 | B11: Slovenská asociácia fitnes, kulturistiky a silového trojboja | C11: Kristína Juricová | D11: 10000 | E11: 0 | F11: d | G11: 026 03 | H11: B | I11: =A11&F11 -> 30842069d | J11: =A11&G11 -> 30842069026 03 | K11: kulturistika a fitnes | L11: =A11&G11&H11 -> 30842069026 03B | M11: =B11&F11&H11&C11 -> Slovenská asociácia fitnes, kulturistiky a silového trojbojadBKristína Juricová
A12: 30842069 | B12: Slovenská asociácia fitnes, kulturistiky a silového trojboja | C12: Michaela Pavleová | D12: 10000 | E12: 0 | F12: d | G12: 026 03 | H12: B | I12: =A12&F12 -> 30842069d | J12: =A12&G12 -> 30842069026 03 | K12: kulturistika a fitnes | L12: =A12&G12&H12 -> 30842069026 03B | M12: =B12&F12&H12&C12 -> Slovenská asociácia fitnes, kulturistiky a silového trojbojadBMichaela Pavleová
A13: 30842069 | B13: Slovenská asociácia fitnes, kulturistiky a silového trojboja | C13: Michal Barbier | D13: 10000 | E13: 0 | F13: d | G13: 026 03 | H13: B | I13: =A13&F13 -> 30842069d | J13: =A13&G13 -> 30842069026 03 | K13: kulturistika a fitnes | L13: =A13&G13&H13 -> 30842069026 03B | M13: =B13&F13&H13&C13 -> Slovenská asociácia fitnes, kulturistiky a silového trojbojadBMichal Barbier
... A286: 00585319 | B286: Zväz potápačov Slovenska | C286: Zuzana Hrašková | D286: 5000 | E286: 0 | F286: d | G286: 026 03 | H286: B | I286: =A286&F286 -> 00585319d | J286: =A286&G286 -> 00585319026 03 | K286: potápačské športy | L286: =A286&G286&H286 -> 00585319026 03B | M286: =B286&F286&H286&C286 -> Zväz potápačov SlovenskadBZuzana Hrašková
L287: =A287&G287&H287 | M287: =B287&F287&H287&C287
L288: =A288&G288&H288 | M288: =B288&F288&H288&C288
L289: =A289&G289&H289 | M289: =B289&F289&H289&C289
L290: =A290&G290&H290 | M290: =B290&F290&H290&C290
L291: =A291&G291&H291 | M291: =B291&F291&H291&C291
L292: =A292&G292&H292 | M292: =B292&F292&H292&C292
L293: =A293&G293&H293 | M293: =B293&F293&H293&C293
L294: =A294&G294&H294 | M294: =B294&F294&H294&C294
L295: =A295&G295&H295 | M295: =B295&F295&H295&C295
L296: =A296&G296&H296 | M296: =B296&F296&H296&C296
L297: =A297&G297&H297 | M297: =B297&F297&H297&C297
L298: =A298&G298&H298 | M298: =B298&F298&H298&C298
... L564: =A564&G564&H564 | M564: =B564&F564&H564&C564

Sheet Cis
A1: Šport | C1: Účel | D1: Účel rozšírený | E1: Režim | F1: PPG | G1: Transfer | I1: PPG | J1: PPG názov
A2: aikido | C2: a | D2: šport 23 | E2: 1 | F2: 026 02 | G2: Príspevok uznanému športu | I2: 026 01 | J2: Šport pre všetkých, školský a univerzitný šport
A3: americký futbal | C3: b | D3: talenty | E3: 1 | F3: 026 02 | G3: Príspevok uznanému športu | I3: 026 02 | J3: Uznané športy
A4: atletika | C4: c | D4: reprezentácia | E4: 1 | F4: 026 02 | G4: Príspevok uznanému športu | I4: 026 03 | J4: Národné športové projekty
A5: automobilový šport | C5: d | D5: administratíva | E5: 1 | F5: 026 02 | G5: Príspevok uznanému športu | I5: 026 04 | J5: Športová infraštruktúra
A6: bandy hokej | C6: e | D6: ostatné | E6: 1 | F6: 026 02 | G6: Príspevok uznanému športu | I6: 026 05 | J6: Prierezové činnosti
A7: basebal | C7: f | D7: športovci | E7: 2 | F7: 026 03 | G7: Príspevok šporovcom top tímu
A8: basketbal | C8: g | D8: SOV | E8: 3 | F8: 026 03 | G8: Príspevok Slovenskému olympijskému výboru
A9: baskická pelota | C9: h | D9: SPV | E9: 3 | F9: 026 03 | G9: Príspevok slovenskému paralympijskému výboru
A10: bedminton | C10: i | D10: účasť a mládež | E10: 4 | F10: 026 03 | G10: Dotácia
A11: biatlon | C11: j | D11: multi a ŠPV | E11: 4 | F11: 026 01 | G11: Dotácia
A12: biliard | C12: k | D12: trasy | E12: 4 | F12: 026 01 | G12: Dotácia
A13: boby a skeleton | C13: l | D13: kampaň | E13: 4 | F13: 026 05 | G13: Dotácia
A14: boccia | C14: m | D14: odmeny | E14: 4 | F14: 026 03 | G14: Dotácia
A15: boule lyonnaise | C15: n
A16: bowling | C16: o
A17: box | C17: p
A18: bridž | C18: q
A19: curling | C19: r
A20: cyklistika | C20: s
A21: dáma | C21: t
A22: dračie lode | C22: u
A23: dráhový golf | C23: v
A24: fistbal | C24: w
A25: florbal | C25: x
A26: futbal | C26: y
A27: go | C27: z
A28: golf
A29: gymnastika
A30: hádzaná
A31: horolezectvo
A32: jachting
A33: jazdectvo
A34: judo
A35: ju-jitsu
A36: kanoistika
A37: karate
A38: kendo
A39: kickbox
... A98: zápasenie

Sheet Avízo - výnosy
A1: =Spolu!C3&", "&Spolu!C6 -> Slovenská skialpinistická asociácia, Bobrovec 550, Bobrovec, 032 21 | N1: =O1&" - "&P1 -> a - príspevok uznaným športom | O1: a | P1: príspevok uznaným športom
N2: =O2&" - "&P2 -> b - príspevok športovcom top tímu | O2: b | P2: príspevok športovcom top tímu
E3: 1. VYPLŇTE ZELENÉ BUNKY 2. VYTLAČTE, PODPÍŠTE A ODOŠLITE V LISTINNEJ PODOBE | N3: =O3&" - "&P3 -> c - príspevok Slovenskému olympijskému výboru | O3: c | P3: príspevok Slovenskému olympijskému výboru
N4: =O4&" - "&P4 -> d - príspevok Slovenskému paralympijskému výboru | O4: d | P4: príspevok Slovenskému paralympijskému výboru
C5: Ministerstvo školstva, vedy, výskumu a športu Slovenskej republiky | N5: =O5&" - "&P5 -> e - rozvoj športov, ktoré nie sú uznanými podľa zákona č. 440/2015 Z. z. | O5: e | P5: rozvoj športov, ktoré nie sú uznanými podľa zákona č. 440/2015 Z. z.
C6: sekcia športu | E6: Dátum poukázania vrátených prostriedkov: | N6: =O6&" - "&P6 -> f - organizovanie významných a tradičných športových podujatí na území SR v roku 2018 | O6: f | P6: organizovanie významných a tradičných športových podujatí na území SR v roku 2018
C7: Stromová 1 | E7: Suma vrátených prostriedkov (eur): | N7: =O7&" - "&P7 -> g - projekty školského, univerzitného športu a športu pre všetkých | O7: g | P7: projekty školského, univerzitného športu a športu pre všetkých
C8: 813 30 Bratislava 1 | E8: IBAN odosielajúceho účtu: | N8: =O8&" - "&P8 -> h - značenie peších, lyžiarskych, vodných a cyklistických trás v Slovenskej republike | O8: h | P8: značenie peších, lyžiarskych, vodných a cyklistických trás v Slovenskej republike
